BEGIN:VCALENDAR
VERSION:2.0
PRODID:-//ChamberMaster//Event Calendar 2.0//EN
METHOD:PUBLISH
X-PUBLISHED-TTL:P3D
REFRESH-INTERVAL:P3D
CALSCALE:GREGORIAN
BEGIN:VEVENT
DTSTART;VALUE=DATE:20190906
DTEND;VALUE=DATE:20190907
TRANSP:TRANSPARENT
X-MICROSOFT-CDO-ALLDAYEVENT:TRUE
SUMMARY:HAYP Advisory Council Applications Due
DESCRIPTION:Applications to join the HAYP Advisory Council organization are due to the Chamber office (2700 Vine St.) by end of the day today (11:30 a.m.). You can find the application link on our website at discoverhays.com under the forms tab. You can email the application to hayscc@discoverhays.com if you prefer.
X-ALT-DESC;FMTTYPE=text/html:Applications to join the HAYP Advisory Council organization are due to the Chamber office (2700 Vine St.) by end of the day today (11:30 a.m.). You can find the application link on our website at discoverhays.com under the forms tab. You can email the application to hayscc@discoverhays.com if you prefer.
LOCATION:
UID:e.1271.10316
SEQUENCE:3
DTSTAMP:20260422T020734Z
URL:https://members.hayschamber.com/events/details/hayp-advisory-council-applications-due-10316
END:VEVENT

END:VCALENDAR
