BEGIN:VCALENDAR
VERSION:2.0
PRODID:-//ChamberMaster//Event Calendar 2.0//EN
METHOD:PUBLISH
X-PUBLISHED-TTL:P3D
REFRESH-INTERVAL:P3D
CALSCALE:GREGORIAN
BEGIN:VEVENT
DTSTART:20170428T233000Z
DTEND:20170429T013000Z
X-MICROSOFT-CDO-ALLDAYEVENT:FALSE
SUMMARY:HAYP Art Walk meeting
DESCRIPTION:
X-ALT-DESC;FMTTYPE=text/html:
LOCATION:starting in front of Fox Pavilion (1202 Main) and ending at the Golden Q
UID:e.1271.6158
SEQUENCE:3
DTSTAMP:20260425T182602Z
URL:https://members.hayschamber.com/events/details/hayp-art-walk-meeting-6158
END:VEVENT

END:VCALENDAR
