BEGIN:VCALENDAR
VERSION:2.0
PRODID:-//ChamberMaster//Event Calendar 2.0//EN
METHOD:PUBLISH
X-PUBLISHED-TTL:P3D
REFRESH-INTERVAL:P3D
CALSCALE:GREGORIAN
BEGIN:VEVENT
DTSTART:20180323T000000Z
DTEND:20180323T020000Z
X-MICROSOFT-CDO-ALLDAYEVENT:FALSE
SUMMARY:HAYP Bacon & Basketball
DESCRIPTION:Let's get together and watch some March Madness!
X-ALT-DESC;FMTTYPE=text/html:Let&#39\;s get together and watch some March Madness!
LOCATION:TK's Smoke Haus\, 114 E. 12th St. YP members and guests welcome.
UID:e.1271.8789
SEQUENCE:3
DTSTAMP:20260424T132552Z
URL:https://members.hayschamber.com/events/details/hayp-bacon-basketball-8789
END:VEVENT

END:VCALENDAR
