BEGIN:VCALENDAR
VERSION:2.0
PRODID:-//ChamberMaster//Event Calendar 2.0//EN
METHOD:PUBLISH
X-PUBLISHED-TTL:P3D
REFRESH-INTERVAL:P3D
CALSCALE:GREGORIAN
BEGIN:VEVENT
DTSTART:20180421T000000Z
DTEND:20180421T020000Z
X-MICROSOFT-CDO-ALLDAYEVENT:FALSE
SUMMARY:HAYP Book Club: Reading "Designing Ethical Workplaces"
DESCRIPTION:
X-ALT-DESC;FMTTYPE=text/html:
LOCATION:Paisley Pear 1100 Main St. (Come-and-Go)
UID:e.1271.8777
SEQUENCE:3
DTSTAMP:20260424T045035Z
URL:https://members.hayschamber.com/events/details/hayp-book-club-reading-designing-ethical-workplaces-8777
END:VEVENT

END:VCALENDAR
