BEGIN:VCALENDAR
VERSION:2.0
PRODID:-//ChamberMaster//Event Calendar 2.0//EN
METHOD:PUBLISH
X-PUBLISHED-TTL:P3D
REFRESH-INTERVAL:P3D
CALSCALE:GREGORIAN
BEGIN:VEVENT
DTSTART:20180630T000000Z
DTEND:20180630T010000Z
X-MICROSOFT-CDO-ALLDAYEVENT:FALSE
SUMMARY:HAYP Book Club: Reading "How the Mighty Fall"
DESCRIPTION:Reading: "How the Mighty Fall"\n\nBy: Jim Collins
X-ALT-DESC;FMTTYPE=text/html:Reading: &quot\;How the Mighty Fall&quot\;<br />\nBy: Jim Collins
LOCATION:Paisley Pear 1100 Main St.
UID:e.1271.9814
SEQUENCE:3
DTSTAMP:20260424T061230Z
URL:https://members.hayschamber.com/events/details/hayp-book-club-reading-how-the-mighty-fall-9814
END:VEVENT

END:VCALENDAR
