BEGIN:VCALENDAR
VERSION:2.0
PRODID:-//ChamberMaster//Event Calendar 2.0//EN
METHOD:PUBLISH
X-PUBLISHED-TTL:P3D
REFRESH-INTERVAL:P3D
CALSCALE:GREGORIAN
BEGIN:VEVENT
DTSTART:20170224T000000Z
DTEND:20170224T020000Z
X-MICROSOFT-CDO-ALLDAYEVENT:FALSE
SUMMARY:HAYP Bowling Night
DESCRIPTION:Family Friendly
X-ALT-DESC;FMTTYPE=text/html:Family Friendly&nbsp\;
LOCATION:Centennial Lanes 2400 Vine St.
UID:e.1271.6129
SEQUENCE:3
DTSTAMP:20260425T225233Z
URL:https://members.hayschamber.com/events/details/hayp-bowling-night-6129
END:VEVENT

END:VCALENDAR
