BEGIN:VCALENDAR
VERSION:2.0
PRODID:-//ChamberMaster//Event Calendar 2.0//EN
METHOD:PUBLISH
X-PUBLISHED-TTL:P3D
REFRESH-INTERVAL:P3D
CALSCALE:GREGORIAN
BEGIN:VEVENT
DTSTART:20180209T000000Z
DTEND:20180209T020000Z
X-MICROSOFT-CDO-ALLDAYEVENT:FALSE
SUMMARY:HAYP Bowling Night
DESCRIPTION:Families welcome.
X-ALT-DESC;FMTTYPE=text/html:Families welcome.
LOCATION:Centennial Lanes 2400 Vine St.
UID:e.1271.8745
SEQUENCE:3
DTSTAMP:20260424T144302Z
URL:https://members.hayschamber.com/events/details/hayp-bowling-night-8745
END:VEVENT

END:VCALENDAR
