BEGIN:VCALENDAR
VERSION:2.0
PRODID:-//ChamberMaster//Event Calendar 2.0//EN
METHOD:PUBLISH
X-PUBLISHED-TTL:P3D
REFRESH-INTERVAL:P3D
CALSCALE:GREGORIAN
BEGIN:VEVENT
DTSTART:20190207T000000Z
DTEND:20190207T020000Z
X-MICROSOFT-CDO-ALLDAYEVENT:FALSE
SUMMARY:HAYP Bowling Night
DESCRIPTION:Join the family fun at Centennial Lanes bowling alley (2400 Vine St.) with your HAYP group! There will be limited free pizza\, spouses and children are encouraged to join this information networking event hosted on February 6th from approximately 6:00pm   8:00pm. No RSVP needed but if you have any questions please reach out to Chair Lisa Nemnich at lnemnich@ampf.com or Nicole at the Chamber office at hayscc@discoverhays.com. Be there to find out who will get the "gutter lover" trophy and the winners pin trophy!
X-ALT-DESC;FMTTYPE=text/html:<span style="font-family:calibri\,sans-serif\;"><span style="font-size:11.0pt\;">Join the family fun at Centennial Lanes bowling alley (2400 Vine St.) with your HAYP group! There will be limited free pizza\, spouses and children are encouraged to join this information networking event hosted on February 6<sup>th</sup> from approximately 6:00pm &ndash\; 8:00pm. No RSVP needed but if you have any questions please reach out to Chair Lisa Nemnich at <a href="mailto:lnemnich@ampf.com">lnemnich@ampf.com</a> or Nicole at the Chamber office at <a href="mailto:hayscc@discoverhays.com">hayscc@discoverhays.com</a>. Be there to find out who will get the &ldquo\;gutter lover&rdquo\; trophy and the winners pin trophy!</span></span>
LOCATION:Centennial Lanes Bowling Alley 2400 Vine St.
UID:e.1271.9983
SEQUENCE:3
DTSTAMP:20260422T204833Z
URL:https://members.hayschamber.com/events/details/hayp-bowling-night-9983
END:VEVENT

END:VCALENDAR
