BEGIN:VCALENDAR
VERSION:2.0
PRODID:-//ChamberMaster//Event Calendar 2.0//EN
METHOD:PUBLISH
X-PUBLISHED-TTL:P3D
REFRESH-INTERVAL:P3D
CALSCALE:GREGORIAN
BEGIN:VEVENT
DTSTART:20191015T170000Z
DTEND:20191015T180000Z
X-MICROSOFT-CDO-ALLDAYEVENT:FALSE
SUMMARY:HAYP Connection Lunch - "Bring Your Boss to Lunch" Day
DESCRIPTION:Monthly Hays Area Young Professionals lunch meeting. Register online to attend.\n\nProgram: Bring Your Boss to Lunch Day!
X-ALT-DESC;FMTTYPE=text/html:<span style="font-size:12px\;"><span style="font-family:tahoma\;"><span style="font-family:arial\;"><span style="color:black\;">Monthly Hays Area Young Professionals lunch meeting. Register online to attend.<br />\nProgram: Bring Your Boss to Lunch Day!</span></span></span></span>
LOCATION:Smoky Hill Country Club 3303 Hall St.
UID:e.1271.3673
SEQUENCE:3
DTSTAMP:20260422T004154Z
URL:https://members.hayschamber.com/events/details/hayp-connection-lunch-bring-your-boss-to-lunch-day-3673
END:VEVENT

END:VCALENDAR
