BEGIN:VCALENDAR
VERSION:2.0
PRODID:-//ChamberMaster//Event Calendar 2.0//EN
METHOD:PUBLISH
X-PUBLISHED-TTL:P3D
REFRESH-INTERVAL:P3D
CALSCALE:GREGORIAN
BEGIN:VEVENT
DTSTART:20170321T170000Z
DTEND:20170321T180000Z
X-MICROSOFT-CDO-ALLDAYEVENT:FALSE
SUMMARY:HAYP Eagle Development Lunch
DESCRIPTION:Guest speaker: Haley Morrical from Salina HAYP
X-ALT-DESC;FMTTYPE=text/html:Guest speaker: Haley Morrical&nbsp\;from Salina HAYP
LOCATION:Smoky Hill Country Club
UID:e.1271.3642
SEQUENCE:3
DTSTAMP:20260425T204845Z
URL:https://members.hayschamber.com/events/details/hayp-eagle-development-lunch-3642
END:VEVENT

END:VCALENDAR
