BEGIN:VCALENDAR
VERSION:2.0
PRODID:-//ChamberMaster//Event Calendar 2.0//EN
METHOD:PUBLISH
X-PUBLISHED-TTL:P3D
REFRESH-INTERVAL:P3D
CALSCALE:GREGORIAN
BEGIN:VEVENT
DTSTART:20190219T180000Z
DTEND:20190219T190000Z
X-MICROSOFT-CDO-ALLDAYEVENT:FALSE
SUMMARY:HAYP Eagle Development Series Lunch
DESCRIPTION:Monthly Hays Area Young Professionals lunch meeting. Register online to attend.\n\nProgram: Mary Hammond\, FHSU Foundation
X-ALT-DESC;FMTTYPE=text/html:<span style="font-size:12px\;"><span style="font-family:tahoma\;"><span style="font-family:arial\;"><span style="color:black\;">Monthly Hays Area Young Professionals lunch meeting. Register online to attend.<br />\nProgram: Mary Hammond\, FHSU Foundation</span></span></span></span><br />\n&nbsp\;
LOCATION:Smoky Hill Country Club 3303 Hall St.
UID:e.1271.3665
SEQUENCE:3
DTSTAMP:20260422T204944Z
URL:https://members.hayschamber.com/events/details/hayp-eagle-development-series-lunch-02-19-2019-3665
END:VEVENT

END:VCALENDAR
