BEGIN:VCALENDAR
VERSION:2.0
PRODID:-//ChamberMaster//Event Calendar 2.0//EN
METHOD:PUBLISH
X-PUBLISHED-TTL:P3D
REFRESH-INTERVAL:P3D
CALSCALE:GREGORIAN
BEGIN:VEVENT
DTSTART:20180918T170000Z
DTEND:20180918T180000Z
X-MICROSOFT-CDO-ALLDAYEVENT:FALSE
SUMMARY:HAYP Eagle Development Series Lunch
DESCRIPTION:Program: Speed Marriott\;\n\nWe're going to do a little time travel\, fast forwarding to the next decade. Sounds like a long way away\, but let's face it\, it's only a few short years from today. We will challenge teams to think about the future needs of their customer and the teams that they will be managing.
X-ALT-DESC;FMTTYPE=text/html:Program: <span style="font-family:arial\,sans-serif\;">Speed Marriott\;<br />\nWe&rsquo\;re going to do a little time travel\, fast forwarding to the next decade. Sounds like a long way away\, but let&rsquo\;s face it\, it&rsquo\;s only a few short years from today. We will challenge teams to think about the future needs of their customer and the teams that they will be managing.</span>
LOCATION:Smoky Hill Country Club 3303 Hall
UID:e.1271.3660
SEQUENCE:3
DTSTAMP:20260423T155111Z
URL:https://members.hayschamber.com/events/details/hayp-eagle-development-series-lunch-09-18-2018-3660
END:VEVENT

END:VCALENDAR
