BEGIN:VCALENDAR
VERSION:2.0
PRODID:-//ChamberMaster//Event Calendar 2.0//EN
METHOD:PUBLISH
X-PUBLISHED-TTL:P3D
REFRESH-INTERVAL:P3D
CALSCALE:GREGORIAN
BEGIN:VEVENT
DTSTART:20171017T170000Z
DTEND:20171017T180000Z
X-MICROSOFT-CDO-ALLDAYEVENT:FALSE
SUMMARY:HAYP Eagle Development Series Lunch
DESCRIPTION:Eagle Professional Development Lunch with Dr. Seth Kastle\, Assistant Professor in the Department of Leadership Studies\, as the guest speaker. The title of the presentation will be "PTSD\, Grit\, and The Journey."
X-ALT-DESC;FMTTYPE=text/html:<span style="font-family:arial\,sans-serif\;"><span style="font-size:11.0pt\;">Eagle Professional Development Lunch with Dr. Seth Kastle\, Assistant Professor in the Department of Leadership Studies\, as the guest speaker. The title of the presentation will be &ldquo\;PTSD\, Grit\, and The Journey.&rdquo\; </span></span>
LOCATION:Thirsty's 2704 Vine St.
UID:e.1271.3649
SEQUENCE:3
DTSTAMP:20260425T034447Z
URL:https://members.hayschamber.com/events/details/hayp-eagle-development-series-lunch-10-17-2017-3649
END:VEVENT

END:VCALENDAR
