BEGIN:VCALENDAR
VERSION:2.0
PRODID:-//ChamberMaster//Event Calendar 2.0//EN
METHOD:PUBLISH
X-PUBLISHED-TTL:P3D
REFRESH-INTERVAL:P3D
CALSCALE:GREGORIAN
BEGIN:VEVENT
DTSTART:20181107T180000Z
DTEND:20181107T190000Z
X-MICROSOFT-CDO-ALLDAYEVENT:FALSE
SUMMARY:HAYP Eagle Development Series Lunch
DESCRIPTION:Program: Pete Smith & End of Year Survey
X-ALT-DESC;FMTTYPE=text/html:Program: Pete Smith &amp\; End of Year Survey
LOCATION:FHSU Memorial Union - Black and Gold Room
UID:e.1271.3662
SEQUENCE:3
DTSTAMP:20260423T055754Z
URL:https://members.hayschamber.com/events/details/hayp-eagle-development-series-lunch-11-07-2018-3662
END:VEVENT

END:VCALENDAR
