BEGIN:VCALENDAR
VERSION:2.0
PRODID:-//ChamberMaster//Event Calendar 2.0//EN
METHOD:PUBLISH
X-PUBLISHED-TTL:P3D
REFRESH-INTERVAL:P3D
CALSCALE:GREGORIAN
BEGIN:VEVENT
DTSTART:20180612T170000Z
DTEND:20180612T180000Z
X-MICROSOFT-CDO-ALLDAYEVENT:FALSE
SUMMARY:HAYP Eagle Development Series Lunch
DESCRIPTION:Speaker: Tim Speno \n\nBring your donation items for Backpack for Kids!\n\n    Loose Leaf paper (wide and college ruled)\n\n    Plain two pocket folders\n\n    Spiral notebooks (wide and college ruled)
X-ALT-DESC;FMTTYPE=text/html:Speaker: Tim Speno&nbsp\;<br />\nBring your donation items for Backpack for Kids!<br />\n&nbsp\;&nbsp\;&nbsp\; Loose Leaf paper (wide and college ruled)<br />\n&nbsp\;&nbsp\;&nbsp\;&nbsp\;Plain two pocket folders<br />\n&nbsp\;&nbsp\;&nbsp\;&nbsp\;Spiral notebooks (wide and college ruled)<br />\n&nbsp\;
LOCATION:Smoky Hill Country Club 3303 Hall St.
UID:e.1271.9812
SEQUENCE:3
DTSTAMP:20260423T221921Z
URL:https://members.hayschamber.com/events/details/hayp-eagle-development-series-lunch-9812
END:VEVENT

END:VCALENDAR
