BEGIN:VCALENDAR
VERSION:2.0
PRODID:-//ChamberMaster//Event Calendar 2.0//EN
METHOD:PUBLISH
X-PUBLISHED-TTL:P3D
REFRESH-INTERVAL:P3D
CALSCALE:GREGORIAN
BEGIN:VEVENT
DTSTART:20190820T170000Z
DTEND:20190820T180000Z
X-MICROSOFT-CDO-ALLDAYEVENT:FALSE
SUMMARY:HAYP Eagle Professional Development Lunch
DESCRIPTION:Monthly Hays Area Young Professionals lunch meeting. Register online to attend.\n\nProgram: Lisa Karlin\, FHSU and HAYP Membership Development Committee
X-ALT-DESC;FMTTYPE=text/html:<span style="font-size:12px\;"><span style="font-family:tahoma\;"><span style="font-family:arial\;"><span style="color:black\;">Monthly Hays Area Young Professionals lunch meeting. Register online to attend.<br />\nProgram: Lisa Karlin\, FHSU and HAYP Membership Development Committee</span></span></span></span>
LOCATION:Smoky Hill Country Club 3303 Hall St.
UID:e.1271.3671
SEQUENCE:3
DTSTAMP:20260422T031844Z
URL:https://members.hayschamber.com/events/details/hayp-eagle-professional-development-lunch-08-20-2019-3671
END:VEVENT

END:VCALENDAR
