BEGIN:VCALENDAR
VERSION:2.0
PRODID:-//ChamberMaster//Event Calendar 2.0//EN
METHOD:PUBLISH
X-PUBLISHED-TTL:P3D
REFRESH-INTERVAL:P3D
CALSCALE:GREGORIAN
BEGIN:VEVENT
DTSTART:20170516T170000Z
DTEND:20170516T180000Z
X-MICROSOFT-CDO-ALLDAYEVENT:FALSE
SUMMARY:HAYP Eagle Professionial Development Series Lunch
DESCRIPTION:Learn how to promote a positive workplace environment that everyone enjoys! Mike Henke will share how to overcome obstacles\, how to turn back negativity\, and how to have all generations of employees working together to form a great team! This is an upbeat personal leadership lunch so get ready for a fast pace!
X-ALT-DESC;FMTTYPE=text/html:<span style="font-family: Verdana\, Geneva\, Arial\, Helvetica\, sans-serif\; font-size: 13.3333px\; text-align: -webkit-center\;">Learn how to promote a positive workplace environment that everyone enjoys! Mike Henke will share how to overcome obstacles\, how to turn back negativity\, and how to have all generations of employees working together to form a great team! This is an upbeat personal leadership lunch so get ready for a fast pace!</span>
LOCATION:FHSU Memorial Union - check on room locations on site
UID:e.1271.3644
SEQUENCE:3
DTSTAMP:20260425T130548Z
URL:https://members.hayschamber.com/events/details/hayp-eagle-professionial-development-series-lunch-3644
END:VEVENT

END:VCALENDAR
