BEGIN:VCALENDAR
VERSION:2.0
PRODID:-//ChamberMaster//Event Calendar 2.0//EN
METHOD:PUBLISH
X-PUBLISHED-TTL:P3D
REFRESH-INTERVAL:P3D
CALSCALE:GREGORIAN
BEGIN:VEVENT
DTSTART:20190720T150000Z
DTEND:20190720T160000Z
X-MICROSOFT-CDO-ALLDAYEVENT:FALSE
SUMMARY:HAYP Expert Young Professional (XYP): Event Planning: Easy as 1-2-3
DESCRIPTION:An informal session to learn more about the "topic of the day" outside of the regular work schedule! Enjoy some coffee/breakfast (at your own expense) and learn a little something new.\n\n\n\nGuest speaker: Brittney Squire\, FHSU\n\nTopic: "Event Planning: Easy as 1-2-3"
X-ALT-DESC;FMTTYPE=text/html:An informal session to learn more about the &quot\;topic of the day&quot\; outside of the regular work schedule! Enjoy some coffee/breakfast (at your own expense) and learn a little something new.<br />\n<br />\nGuest speaker: Brittney Squire\, FHSU<br />\nTopic: &quot\;Event Planning: Easy as 1-2-3&quot\;
LOCATION:Mokas 1230 E. 27th St.
UID:e.1271.10269
SEQUENCE:3
DTSTAMP:20260422T045121Z
URL:https://members.hayschamber.com/events/details/hayp-expert-young-professional-xyp-event-planning-easy-as-1-2-3-10269
END:VEVENT

END:VCALENDAR
