BEGIN:VCALENDAR
VERSION:2.0
PRODID:-//ChamberMaster//Event Calendar 2.0//EN
METHOD:PUBLISH
X-PUBLISHED-TTL:P3D
REFRESH-INTERVAL:P3D
CALSCALE:GREGORIAN
BEGIN:VEVENT
DTSTART:20191115T000000Z
DTEND:20191115T020000Z
X-MICROSOFT-CDO-ALLDAYEVENT:FALSE
SUMMARY:HAYP Friendsgiving
DESCRIPTION:Potluck dinner.
X-ALT-DESC;FMTTYPE=text/html:Potluck dinner.
LOCATION:Welcome Center 2700 Vine St.
UID:e.1271.10332
SEQUENCE:3
DTSTAMP:20260421T231952Z
URL:https://members.hayschamber.com/events/details/hayp-friendsgiving-10332
END:VEVENT

END:VCALENDAR
