BEGIN:VCALENDAR
VERSION:2.0
PRODID:-//ChamberMaster//Event Calendar 2.0//EN
METHOD:PUBLISH
X-PUBLISHED-TTL:P3D
REFRESH-INTERVAL:P3D
CALSCALE:GREGORIAN
BEGIN:VEVENT
DTSTART:20181109T000000Z
DTEND:20181109T020000Z
X-MICROSOFT-CDO-ALLDAYEVENT:FALSE
SUMMARY:HAYP Friendsgiving
DESCRIPTION:Come celebrate Thanksgiving with your friends in HAYP! We will provide the turkey and the mashed potatoes/gravy. Bring a family favorite side dish or dessert to share. After the feast\, stick around for card games. Please RSVP so we know how much turkey to prepare!
X-ALT-DESC;FMTTYPE=text/html:Come celebrate Thanksgiving with your friends in HAYP! We will provide the turkey and the mashed potatoes/gravy. Bring a family favorite side dish or dessert to share. After the feast\, stick around for card games. Please RSVP so we know how much turkey to prepare!
LOCATION:Welcome Center (2700 Vine St.)
UID:e.1271.9906
SEQUENCE:3
DTSTAMP:20260423T055802Z
URL:https://members.hayschamber.com/events/details/hayp-friendsgiving-9906
END:VEVENT

END:VCALENDAR
