BEGIN:VCALENDAR
VERSION:2.0
PRODID:-//ChamberMaster//Event Calendar 2.0//EN
METHOD:PUBLISH
X-PUBLISHED-TTL:P3D
REFRESH-INTERVAL:P3D
CALSCALE:GREGORIAN
BEGIN:VEVENT
DTSTART:20181216T000000Z
DTEND:20181216T010000Z
X-MICROSOFT-CDO-ALLDAYEVENT:FALSE
SUMMARY:HAYP Frost Fest Parade Walk
DESCRIPTION:Show your young professionals support and holiday spirit by gathering up your family and walking in the Frost Fest Parade with our HAYP group! No need to bring anything but yourself and your walking shoes. We will walk as a group\, hand out HAYP cards and candy to the crowd and proudly carry our HAYP banner. For questions please contact committee chair\, Lisa Nemnich at lisa.nemnich@ampf.com or call the chamber at 785.628.8201.
X-ALT-DESC;FMTTYPE=text/html:Show your young professionals support and holiday spirit by gathering up your family and walking in the Frost Fest Parade with our HAYP group! No need to bring anything but yourself and your walking shoes. We will walk as a group\, hand out HAYP cards and candy to the crowd and proudly carry our HAYP banner. For questions please contact committee chair\, Lisa Nemnich at lisa.nemnich@ampf.com or call the chamber at 785.628.8201.
LOCATION:We will meet a little before 6:00pm on Main Street. Check the HAYP Facebook page for exact location updates the evening of the parade.
UID:e.1271.9910
SEQUENCE:3
DTSTAMP:20260423T075546Z
URL:https://members.hayschamber.com/events/details/hayp-frost-fest-parade-walk-9910
END:VEVENT

END:VCALENDAR
