BEGIN:VCALENDAR
VERSION:2.0
PRODID:-//ChamberMaster//Event Calendar 2.0//EN
METHOD:PUBLISH
X-PUBLISHED-TTL:P3D
REFRESH-INTERVAL:P3D
CALSCALE:GREGORIAN
BEGIN:VEVENT
DTSTART:20170307T003000Z
DTEND:20170307T023000Z
X-MICROSOFT-CDO-ALLDAYEVENT:FALSE
SUMMARY:HAYP Game Night
DESCRIPTION:Soup supper will be provided. Members are encouraged to bring board games or card games they like!
X-ALT-DESC;FMTTYPE=text/html:Soup supper will be provided. Members are encouraged to bring board games or card games they like!
LOCATION:Welcome Center
UID:e.1271.6136
SEQUENCE:3
DTSTAMP:20260425T203742Z
URL:https://members.hayschamber.com/events/details/hayp-game-night-6136
END:VEVENT

END:VCALENDAR
