BEGIN:VCALENDAR
VERSION:2.0
PRODID:-//ChamberMaster//Event Calendar 2.0//EN
METHOD:PUBLISH
X-PUBLISHED-TTL:P3D
REFRESH-INTERVAL:P3D
CALSCALE:GREGORIAN
BEGIN:VEVENT
DTSTART;VALUE=DATE:20170902
DTEND;VALUE=DATE:20170903
TRANSP:TRANSPARENT
X-MICROSOFT-CDO-ALLDAYEVENT:TRUE
SUMMARY:HAYP Lake Day
DESCRIPTION:Lake Wilson Event on Saturday September 2nd- Noon till ? This event is Adult Only\, and a way to enjoy a relaxed social event out at one of our local lakes. Please bring your own chairs and drinks for the day that you need.
X-ALT-DESC;FMTTYPE=text/html:Lake Wilson Event on Saturday September 2<sup>nd</sup>- Noon till ? This event is Adult Only\, and a way to enjoy a relaxed social event out at one of our local lakes. Please bring your own chairs and drinks for the day that you need.<br />\n&nbsp\;
LOCATION:Take Exit 199 for Dorrance and head north to Lake Wilson\, at the bottom of the hill keep going straight onto the gravel and you will come to the Minooka Group Campsite.
UID:e.1271.7622
SEQUENCE:3
DTSTAMP:20260425T023933Z
URL:https://members.hayschamber.com/events/details/hayp-lake-day-7622
END:VEVENT

END:VCALENDAR
