BEGIN:VCALENDAR
VERSION:2.0
PRODID:-//ChamberMaster//Event Calendar 2.0//EN
METHOD:PUBLISH
X-PUBLISHED-TTL:P3D
REFRESH-INTERVAL:P3D
CALSCALE:GREGORIAN
BEGIN:VEVENT
DTSTART:20180306T180000Z
DTEND:20180306T190000Z
X-MICROSOFT-CDO-ALLDAYEVENT:FALSE
SUMMARY:HAYP Lunch with Leaders
DESCRIPTION:Program: Ceena Owens -- FHSU Massage Therapy/H2O Float Cryo Massage\n\n\n\nOwner of H2O Float Cryo Massage\, Ceena opened up her location based on a progressive movement. She sold her previous location in an effort to expand and incorporate. Ceena is also an instructor in the Massage Therapy program at FHSU and will address wellness and self-care practices.
X-ALT-DESC;FMTTYPE=text/html:Program: Ceena Owens -- FHSU Massage Therapy/H2O Float Cryo Massage<br />\n<br />\nOwner of H2O&nbsp\;Float Cryo Massage\, Ceena opened up her location based on a progressive movement. She sold her previous location in an effort to expand and incorporate. Ceena is also an instructor in the Massage Therapy program at FHSU and will address wellness and self-care practices.
LOCATION:Gutch's 111 W. 7th St.
UID:e.1271.8749
SEQUENCE:3
DTSTAMP:20260424T081215Z
URL:https://members.hayschamber.com/events/details/hayp-leadership-exchange-lunch-03-06-2018-8749
END:VEVENT

END:VCALENDAR
