BEGIN:VCALENDAR
VERSION:2.0
PRODID:-//ChamberMaster//Event Calendar 2.0//EN
METHOD:PUBLISH
X-PUBLISHED-TTL:P3D
REFRESH-INTERVAL:P3D
CALSCALE:GREGORIAN
BEGIN:VEVENT
DTSTART:20180905T170000Z
DTEND:20180905T180000Z
X-MICROSOFT-CDO-ALLDAYEVENT:FALSE
SUMMARY:HAYP Lunch with Leaders
DESCRIPTION:Program: Dr. Kendall Krug
X-ALT-DESC;FMTTYPE=text/html:Program: Dr. Kendall Krug
LOCATION:Gutch's 111 W. 7th St.
UID:e.1271.8755
SEQUENCE:3
DTSTAMP:20260423T171854Z
URL:https://members.hayschamber.com/events/details/hayp-leadership-exchange-lunch-09-04-2018-8755
END:VEVENT

END:VCALENDAR
