BEGIN:VCALENDAR
VERSION:2.0
PRODID:-//ChamberMaster//Event Calendar 2.0//EN
METHOD:PUBLISH
X-PUBLISHED-TTL:P3D
REFRESH-INTERVAL:P3D
CALSCALE:GREGORIAN
BEGIN:VEVENT
DTSTART:20181005T170000Z
DTEND:20181005T180000Z
X-MICROSOFT-CDO-ALLDAYEVENT:FALSE
SUMMARY:HAYP Lunch with Leaders
DESCRIPTION:Program: Christie Brungardt\n\nAssistant Professor of Leadership Studies at FHSU and Co-Founder of Jana's Campaign\, Inc.\n\n\n\n*Limit of 5 people per lunch. Please RSVP to Brittney Squire at bmsquire@fhsu.edu*
X-ALT-DESC;FMTTYPE=text/html:Program: <span style="font-size:12px\;">Christie Brungardt<br />\n<span style="font-family:verdana\,sans-serif\;">Assistant Professor of Leadership Studies at FHSU and Co-Founder of Jana&#39\;s Campaign\, Inc.<br />\n<br />\n*Limit of 5 people per lunch. Please RSVP to Brittney Squire at bmsquire@fhsu.edu*</span></span>
LOCATION:Gutch's 111 W. 7th St.
UID:e.1271.8756
SEQUENCE:3
DTSTAMP:20260423T171853Z
URL:https://members.hayschamber.com/events/details/hayp-leadership-exchange-lunch-10-02-2018-8756
END:VEVENT

END:VCALENDAR
