BEGIN:VCALENDAR
VERSION:2.0
PRODID:-//ChamberMaster//Event Calendar 2.0//EN
METHOD:PUBLISH
X-PUBLISHED-TTL:P3D
REFRESH-INTERVAL:P3D
CALSCALE:GREGORIAN
BEGIN:VEVENT
DTSTART:20170905T170000Z
DTEND:20170905T180000Z
X-MICROSOFT-CDO-ALLDAYEVENT:FALSE
SUMMARY:HAYP Leadership Exchange Lunch
DESCRIPTION:Guest Speaker: Elizabeth Jaeger
X-ALT-DESC;FMTTYPE=text/html:Guest Speaker: Elizabeth Jaeger
LOCATION:Gutch's
UID:e.1271.7623
SEQUENCE:3
DTSTAMP:20260425T024004Z
URL:https://members.hayschamber.com/events/details/hayp-leadership-exchange-lunch-7623
END:VEVENT

END:VCALENDAR
