BEGIN:VCALENDAR
VERSION:2.0
PRODID:-//ChamberMaster//Event Calendar 2.0//EN
METHOD:PUBLISH
X-PUBLISHED-TTL:P3D
REFRESH-INTERVAL:P3D
CALSCALE:GREGORIAN
BEGIN:VEVENT
DTSTART:20171003T170000Z
DTEND:20171003T180000Z
X-MICROSOFT-CDO-ALLDAYEVENT:FALSE
SUMMARY:HAYP Leadership Exchange Lunch
DESCRIPTION:Come and enjoy a more intimate and informal lunch with Community and Business Leaders. Ask the questions you never had a chance to ask\, listen to exceptional stories about living and working in our community and get to know your local leaders! \n\n\n\nThis sessions guest: John was born in Kingman KS. He started his career as a science teacher. He married his high school sweetheart and have two children. Both now have families. John has 3 grandchildren. He started building administration in Junction City and continued in Great Bend and McPherson. He started as a superintendent in Herington and is now serving the Hays community in the same capacity. There are limited seats\, please RSVP to bmsquire@fhsu.edu.
X-ALT-DESC;FMTTYPE=text/html:<span style="font-family:times new roman\;"><span style="font-size: 12pt\;">Come and enjoy a more intimate and informal lunch with Community and Business Leaders. Ask the questions you never had a chance to ask\, listen to exceptional stories about living and working in our community and get to know your local leaders! </span></span><br />\n<br />\n<span style="font-family:times new roman\;"><span style="font-size: 12pt\;">This sessions guest: John was born in Kingman KS. He started his career as a science teacher. He married his high school sweetheart and have two children. Both now have families. John has 3 grandchildren. He started building administration in Junction City and continued in Great Bend and McPherson. He started as a superintendent in Herington and is now serving the Hays community in the same capacity. There are limited seats\, please RSVP to </span></span><span style="font-family:calibri\,sans-serif\;"><span style="font-size:11.0pt\;"><a href="mailto:bmsquire@fhsu.edu"><span style="font-size:12.0pt\;">bmsquire@fhsu.edu. </span></a></span></span><br />\n&nbsp\;
LOCATION:Gutch's (111 W. 7th St.)
UID:e.1271.8640
SEQUENCE:3
DTSTAMP:20260424T221056Z
URL:https://members.hayschamber.com/events/details/hayp-leadership-exchange-lunch-8640
END:VEVENT

END:VCALENDAR
