BEGIN:VCALENDAR
VERSION:2.0
PRODID:-//ChamberMaster//Event Calendar 2.0//EN
METHOD:PUBLISH
X-PUBLISHED-TTL:P3D
REFRESH-INTERVAL:P3D
CALSCALE:GREGORIAN
BEGIN:VEVENT
DTSTART:20170301T180000Z
DTEND:20170301T190000Z
X-MICROSOFT-CDO-ALLDAYEVENT:FALSE
SUMMARY:HAYP Leadership Exchange Luncheon
DESCRIPTION:Program: Dr. Reece Barrick - Sternburg Museum
X-ALT-DESC;FMTTYPE=text/html:Program: Dr. Reece Barrick - Sternburg Museum
LOCATION:Gutch's
UID:e.1271.6135
SEQUENCE:3
DTSTAMP:20260425T191157Z
URL:https://members.hayschamber.com/events/details/hayp-leadership-exchange-luncheon-6135
END:VEVENT

END:VCALENDAR
