BEGIN:VCALENDAR
VERSION:2.0
PRODID:-//ChamberMaster//Event Calendar 2.0//EN
METHOD:PUBLISH
X-PUBLISHED-TTL:P3D
REFRESH-INTERVAL:P3D
CALSCALE:GREGORIAN
BEGIN:VEVENT
DTSTART:20190709T123000Z
DTEND:20190709T133000Z
X-MICROSOFT-CDO-ALLDAYEVENT:FALSE
SUMMARY:HAYP Leadership Over Lattes
DESCRIPTION:Leadership Over Lattes is an informal time for coffee (or morning beverage of choice) and conversation with a community leader. There is no RSVP needed for this event.\n\n\n\nCommunity guest: Cory Munsch\, Owner\, ServiceMaster of Hays
X-ALT-DESC;FMTTYPE=text/html:Leadership Over Lattes is an informal time for coffee (or morning beverage of choice) and conversation with a community leader. There is no RSVP needed for this event.<br />\n<br />\nCommunity guest: Cory Munsch\, Owner\, ServiceMaster of Hays
LOCATION:Breathe Coffee House 703B Main St Hays\, KS 67601
UID:e.1271.10268
SEQUENCE:3
DTSTAMP:20260422T044938Z
URL:https://members.hayschamber.com/events/details/hayp-leadership-over-lattes-10268
END:VEVENT

END:VCALENDAR
