BEGIN:VCALENDAR
VERSION:2.0
PRODID:-//ChamberMaster//Event Calendar 2.0//EN
METHOD:PUBLISH
X-PUBLISHED-TTL:P3D
REFRESH-INTERVAL:P3D
CALSCALE:GREGORIAN
BEGIN:VEVENT
DTSTART:20190123T180000Z
DTEND:20190123T190000Z
X-MICROSOFT-CDO-ALLDAYEVENT:FALSE
SUMMARY:HAYP Leadership/Professional Development Committee
DESCRIPTION:
X-ALT-DESC;FMTTYPE=text/html:
LOCATION:The Press 230 E. 8th Street Hays\, KS 67601
UID:e.1271.6020
SEQUENCE:3
DTSTAMP:20260423T055805Z
URL:https://members.hayschamber.com/events/details/hayp-leadership-professional-development-committee-01-23-2019-6020
END:VEVENT

END:VCALENDAR
