BEGIN:VCALENDAR
VERSION:2.0
PRODID:-//ChamberMaster//Event Calendar 2.0//EN
METHOD:PUBLISH
X-PUBLISHED-TTL:P3D
REFRESH-INTERVAL:P3D
CALSCALE:GREGORIAN
BEGIN:VEVENT
DTSTART:20190321T170000Z
DTEND:20190321T180000Z
X-MICROSOFT-CDO-ALLDAYEVENT:FALSE
SUMMARY:HAYP Lunch with Leaders
DESCRIPTION:Guest: Dr. Christie Brungardt\, Assistant Professor of Leadership Studies at FHSU and Co-Founder of Jana's Campaign\, Inc.
X-ALT-DESC;FMTTYPE=text/html:Guest: Dr. Christie Brungardt\, Assistant Professor of Leadership Studies at FHSU and Co-Founder of Jana&#39\;s Campaign\, Inc.
LOCATION:Gutch's 111 W. 7th St.
UID:e.1271.10218
SEQUENCE:3
DTSTAMP:20260422T182643Z
URL:https://members.hayschamber.com/events/details/hayp-lunch-with-leaders-10218
END:VEVENT

END:VCALENDAR
