BEGIN:VCALENDAR
VERSION:2.0
PRODID:-//ChamberMaster//Event Calendar 2.0//EN
METHOD:PUBLISH
X-PUBLISHED-TTL:P3D
REFRESH-INTERVAL:P3D
CALSCALE:GREGORIAN
BEGIN:VEVENT
DTSTART:20190416T170000Z
DTEND:20190416T180000Z
X-MICROSOFT-CDO-ALLDAYEVENT:FALSE
SUMMARY:HAYP Lunch with Leaders
DESCRIPTION:Guest: Edward Herrman - CEO of HaysMed The University of Kansas Health Systems
X-ALT-DESC;FMTTYPE=text/html:Guest: Edward Herrman - CEO of HaysMed The University of Kansas Health Systems
LOCATION:Gutch's 111 W. 7th St.
UID:e.1271.10219
SEQUENCE:3
DTSTAMP:20260422T174811Z
URL:https://members.hayschamber.com/events/details/hayp-lunch-with-leaders-10219
END:VEVENT

END:VCALENDAR
