BEGIN:VCALENDAR
VERSION:2.0
PRODID:-//ChamberMaster//Event Calendar 2.0//EN
METHOD:PUBLISH
X-PUBLISHED-TTL:P3D
REFRESH-INTERVAL:P3D
CALSCALE:GREGORIAN
BEGIN:VEVENT
DTSTART:20180206T180000Z
DTEND:20180206T190000Z
X-MICROSOFT-CDO-ALLDAYEVENT:FALSE
SUMMARY:HAYP Lunch with Leaders
DESCRIPTION:Program: Sherry Dryden -- United Way of Ellis Co.
X-ALT-DESC;FMTTYPE=text/html:Program: Sherry Dryden -- United Way of Ellis Co.
LOCATION:Gutch's 111 W. 7th St.
UID:e.1271.8748
SEQUENCE:3
DTSTAMP:20260424T121012Z
URL:https://members.hayschamber.com/events/details/hayp-lunch-with-leaders-8748
END:VEVENT

END:VCALENDAR
