BEGIN:VCALENDAR
VERSION:2.0
PRODID:-//ChamberMaster//Event Calendar 2.0//EN
METHOD:PUBLISH
X-PUBLISHED-TTL:P3D
REFRESH-INTERVAL:P3D
CALSCALE:GREGORIAN
BEGIN:VEVENT
DTSTART:20191003T170000Z
DTEND:20191003T180000Z
X-MICROSOFT-CDO-ALLDAYEVENT:FALSE
SUMMARY:HAYP Lunch with Leaders: Shane Smith\, Commerce Bank
DESCRIPTION:
X-ALT-DESC;FMTTYPE=text/html:
LOCATION:Gutch's (111 W. 7th St.)
UID:e.1271.10312
SEQUENCE:3
DTSTAMP:20260422T004047Z
URL:https://members.hayschamber.com/events/details/hayp-lunch-with-leaders-shane-smith-commerce-bank-10312
END:VEVENT

END:VCALENDAR
