BEGIN:VCALENDAR
VERSION:2.0
PRODID:-//ChamberMaster//Event Calendar 2.0//EN
METHOD:PUBLISH
X-PUBLISHED-TTL:P3D
REFRESH-INTERVAL:P3D
CALSCALE:GREGORIAN
BEGIN:VEVENT
DTSTART:20190905T170000Z
DTEND:20190905T180000Z
X-MICROSOFT-CDO-ALLDAYEVENT:FALSE
SUMMARY:HAYP Lunch with Leaders: Todd Lynd\, Eagle Radio Manager
DESCRIPTION:Lunch with Leaders is a small more intimate time to have lunch and pick the brains of local business people. This months speaker is Manager Todd Lynd with Eagle Hays Radio. Please RSVP online at discoverhays.com or to the Chamber at hayscc@discoverhays.com.
X-ALT-DESC;FMTTYPE=text/html:Lunch with Leaders is a small more intimate time to have lunch and pick the brains of local business people. This months speaker is Manager Todd Lynd with Eagle Hays Radio. Please RSVP online at discoverhays.com or to the Chamber at hayscc@discoverhays.com.
LOCATION:Gutch's 111 W. 7th St.
UID:e.1271.10303
SEQUENCE:3
DTSTAMP:20260422T020941Z
URL:https://members.hayschamber.com/events/details/hayp-lunch-with-leaders-todd-lynd-eagle-radio-manager-10303
END:VEVENT

END:VCALENDAR
