BEGIN:VCALENDAR
VERSION:2.0
PRODID:-//ChamberMaster//Event Calendar 2.0//EN
METHOD:PUBLISH
X-PUBLISHED-TTL:P3D
REFRESH-INTERVAL:P3D
CALSCALE:GREGORIAN
BEGIN:VEVENT
DTSTART:20190227T180000Z
DTEND:20190227T190000Z
X-MICROSOFT-CDO-ALLDAYEVENT:FALSE
SUMMARY:HAYP Member Development Committee Meeting
DESCRIPTION:
X-ALT-DESC;FMTTYPE=text/html:
LOCATION:The Press 230 E. 8th Street Hays\, KS 67601
UID:e.1271.6021
SEQUENCE:3
DTSTAMP:20260422T204951Z
URL:https://members.hayschamber.com/events/details/hayp-member-development-committee-meeting-6021
END:VEVENT

END:VCALENDAR
