BEGIN:VCALENDAR
VERSION:2.0
PRODID:-//ChamberMaster//Event Calendar 2.0//EN
METHOD:PUBLISH
X-PUBLISHED-TTL:P3D
REFRESH-INTERVAL:P3D
CALSCALE:GREGORIAN
BEGIN:VEVENT
DTSTART:20190115T180000Z
DTEND:20190115T190000Z
X-MICROSOFT-CDO-ALLDAYEVENT:FALSE
SUMMARY:HAYP Connection Lunch
DESCRIPTION:Monthly Hays Area Young Professionals lunch meeting. Register online to attend.\n\nProgram: "New Member Social"\n\n*Please bring your business cards with you and wear your nametag!
X-ALT-DESC;FMTTYPE=text/html:<span style="font-size:12px\;"><span style="font-family:tahoma\;"><span style="font-family:arial\;"><span style="color:black\;">Monthly Hays Area Young Professionals lunch meeting. Register online to attend.<br />\nProgram: &quot\;New Member Social&quot\;<br />\n*Please bring your business cards with you and wear your nametag!</span></span></span></span>
LOCATION:Smoky Hill Country Club 3303 Hall St.
UID:e.1271.3664
SEQUENCE:3
DTSTAMP:20260423T055805Z
URL:https://members.hayschamber.com/events/details/hayp-membership-connection-lunch-01-15-2019-3664
END:VEVENT

END:VCALENDAR
