BEGIN:VCALENDAR
VERSION:2.0
PRODID:-//ChamberMaster//Event Calendar 2.0//EN
METHOD:PUBLISH
X-PUBLISHED-TTL:P3D
REFRESH-INTERVAL:P3D
CALSCALE:GREGORIAN
BEGIN:VEVENT
DTSTART:20180116T180000Z
DTEND:20180116T190000Z
X-MICROSOFT-CDO-ALLDAYEVENT:FALSE
SUMMARY:HAYP Connection Lunch
DESCRIPTION:Ambassadors Program In-Depth
X-ALT-DESC;FMTTYPE=text/html:Ambassadors Program In-Depth
LOCATION:Smoky Hill Country Club
UID:e.1271.3652
SEQUENCE:3
DTSTAMP:20260424T140422Z
URL:https://members.hayschamber.com/events/details/hayp-membership-connection-lunch-01-16-2018-3652
END:VEVENT

END:VCALENDAR
