BEGIN:VCALENDAR
VERSION:2.0
PRODID:-//ChamberMaster//Event Calendar 2.0//EN
METHOD:PUBLISH
X-PUBLISHED-TTL:P3D
REFRESH-INTERVAL:P3D
CALSCALE:GREGORIAN
BEGIN:VEVENT
DTSTART:20180220T180000Z
DTEND:20180220T190000Z
X-MICROSOFT-CDO-ALLDAYEVENT:FALSE
SUMMARY:HAYP Connection Lunch
DESCRIPTION:Program:The February Q1 Eagle Professional Development Series lunch will feature the Dane G. Hansen Foundation and the Heartland Foundation on Strategic Doing
X-ALT-DESC;FMTTYPE=text/html:<span style="font-family:arial\;"><span style="font-size:14px\;">Program:The February Q1 Eagle Professional Development Series lunch will feature the Dane G. Hansen Foundation and the Heartland Foundation on Strategic Doing</span></span>
LOCATION:Smoky Hill Country Club 3303 Hall
UID:e.1271.3653
SEQUENCE:3
DTSTAMP:20260424T094927Z
URL:https://members.hayschamber.com/events/details/hayp-membership-connection-lunch-02-20-2018-3653
END:VEVENT

END:VCALENDAR
