BEGIN:VCALENDAR
VERSION:2.0
PRODID:-//ChamberMaster//Event Calendar 2.0//EN
METHOD:PUBLISH
X-PUBLISHED-TTL:P3D
REFRESH-INTERVAL:P3D
CALSCALE:GREGORIAN
BEGIN:VEVENT
DTSTART:20180417T170000Z
DTEND:20180417T180000Z
X-MICROSOFT-CDO-ALLDAYEVENT:FALSE
SUMMARY:HAYP Connection Lunch
DESCRIPTION:Social Lunch: "30 Second Stories"
X-ALT-DESC;FMTTYPE=text/html:Social Lunch: &quot\;30 Second Stories&quot\;
LOCATION:Smoky Hill Country Club 3303 Hall
UID:e.1271.3655
SEQUENCE:3
DTSTAMP:20260424T055105Z
URL:https://members.hayschamber.com/events/details/hayp-membership-connection-lunch-04-17-2018-3655
END:VEVENT

END:VCALENDAR
