BEGIN:VCALENDAR
VERSION:2.0
PRODID:-//ChamberMaster//Event Calendar 2.0//EN
METHOD:PUBLISH
X-PUBLISHED-TTL:P3D
REFRESH-INTERVAL:P3D
CALSCALE:GREGORIAN
BEGIN:VEVENT
DTSTART:20170418T170000Z
DTEND:20170418T180000Z
X-MICROSOFT-CDO-ALLDAYEVENT:FALSE
SUMMARY:HAYP Membership Connection Lunch
DESCRIPTION:Speaker: Social
X-ALT-DESC;FMTTYPE=text/html:Speaker: Social
LOCATION:Smoky Hill Country Club 3303 Hall St.
UID:e.1271.3643
SEQUENCE:3
DTSTAMP:20260425T173608Z
URL:https://members.hayschamber.com/events/details/hayp-membership-connection-lunch-04-18-2017-3643
END:VEVENT

END:VCALENDAR
