BEGIN:VCALENDAR
VERSION:2.0
PRODID:-//ChamberMaster//Event Calendar 2.0//EN
METHOD:PUBLISH
X-PUBLISHED-TTL:P3D
REFRESH-INTERVAL:P3D
CALSCALE:GREGORIAN
BEGIN:VEVENT
DTSTART:20180515T170000Z
DTEND:20180515T180000Z
X-MICROSOFT-CDO-ALLDAYEVENT:FALSE
SUMMARY:HAYP Connection Lunch
DESCRIPTION:Program: Roger Bixenman
X-ALT-DESC;FMTTYPE=text/html:Program: Roger Bixenman
LOCATION:Whiskey Creek 3203 Vine St.
UID:e.1271.3656
SEQUENCE:3
DTSTAMP:20260424T055311Z
URL:https://members.hayschamber.com/events/details/hayp-membership-connection-lunch-05-15-2018-3656
END:VEVENT

END:VCALENDAR
