BEGIN:VCALENDAR
VERSION:2.0
PRODID:-//ChamberMaster//Event Calendar 2.0//EN
METHOD:PUBLISH
X-PUBLISHED-TTL:P3D
REFRESH-INTERVAL:P3D
CALSCALE:GREGORIAN
BEGIN:VEVENT
DTSTART:20180717T170000Z
DTEND:20180717T180000Z
X-MICROSOFT-CDO-ALLDAYEVENT:FALSE
SUMMARY:HAYP Connection Lunch
DESCRIPTION:Program: Brooke Mann and Whitney Jeter with Fort Hays State University
X-ALT-DESC;FMTTYPE=text/html:Program: Brooke Mann and Whitney Jeter with Fort Hays State University
LOCATION:Smoky Hill Country Club 3303 Hall
UID:e.1271.3658
SEQUENCE:3
DTSTAMP:20260424T085242Z
URL:https://members.hayschamber.com/events/details/hayp-membership-connection-lunch-07-17-2018-3658
END:VEVENT

END:VCALENDAR
