BEGIN:VCALENDAR
VERSION:2.0
PRODID:-//ChamberMaster//Event Calendar 2.0//EN
METHOD:PUBLISH
X-PUBLISHED-TTL:P3D
REFRESH-INTERVAL:P3D
CALSCALE:GREGORIAN
BEGIN:VEVENT
DTSTART:20170919T170000Z
DTEND:20170919T180000Z
X-MICROSOFT-CDO-ALLDAYEVENT:FALSE
SUMMARY:HAYP Connection Lunch
DESCRIPTION:National Boss's Day is scheduled for October 16\, 2017 and many workers dedicate this day to their supervisors for various reasons\, such as supporting staff and career development. This observance also gives employees a chance to recognize those in supervisory positions.\n\n \n\nSome people give their bosses cards\, gift certificates\, or flowers on Boss's Day. The Hays Area Young Professionals want to recognize supervisors with a FREE lunch a month early!\n\n \n\nJoin HAYP at their regularly scheduled Connection Lunch on September 19 to celebrate. Supervisors will learn more about the activities HAYP hosts and development that occurs with membership. The Chamber will treat bosses to lunch but please limit only one representative (i.e. boss)per business. Consider this an opportunity to network with the top boss rather than your direct supervisor!
X-ALT-DESC;FMTTYPE=text/html:<span style="color:#000000\;"><span style="font-family: arial\,sans-serif\;">National Boss&rsquo\;s Day is scheduled for October 16\, 2017 and many workers dedicate this day to their supervisors for various reasons\, such as supporting staff and career development. This observance also gives employees a chance to recognize those in supervisory positions.</span><br />\n&nbsp\;<br />\n<span style="font-family: arial\,sans-serif\;">Some people give their bosses cards\, gift certificates\, or flowers on Boss&rsquo\;s Day. The Hays Area Young Professionals want to recognize supervisors with a FREE lunch a month early!</span><br />\n&nbsp\;<br />\n<span style="font-family: arial\,sans-serif\;">Join HAYP at their regularly scheduled Connection Lunch on September 19 to celebrate. Supervisors will learn more about the activities HAYP hosts and development that occurs with membership. The Chamber will treat bosses to lunch but please limit only one representative (i.e. boss)per business. Consider this an opportunity to network with the top boss rather than your direct supervisor!</span></span><br />\n&nbsp\;
LOCATION:Rose Garden Banquet Hall 2350 E. 8th St.
UID:e.1271.3648
SEQUENCE:3
DTSTAMP:20260425T024036Z
URL:https://members.hayschamber.com/events/details/hayp-membership-connection-lunch-09-19-2017-3648
END:VEVENT

END:VCALENDAR
