BEGIN:VCALENDAR
VERSION:2.0
PRODID:-//ChamberMaster//Event Calendar 2.0//EN
METHOD:PUBLISH
X-PUBLISHED-TTL:P3D
REFRESH-INTERVAL:P3D
CALSCALE:GREGORIAN
BEGIN:VEVENT
DTSTART:20171121T180000Z
DTEND:20171121T190000Z
X-MICROSOFT-CDO-ALLDAYEVENT:FALSE
SUMMARY:HAYP Connection Lunch
DESCRIPTION:This lunch will be a social.
X-ALT-DESC;FMTTYPE=text/html:This lunch will be a social.
LOCATION:Smoky Hill Country Club
UID:e.1271.3650
SEQUENCE:3
DTSTAMP:20260424T190932Z
URL:https://members.hayschamber.com/events/details/hayp-membership-connection-lunch-11-21-2017-3650
END:VEVENT

END:VCALENDAR
