BEGIN:VCALENDAR
VERSION:2.0
PRODID:-//ChamberMaster//Event Calendar 2.0//EN
METHOD:PUBLISH
X-PUBLISHED-TTL:P3D
REFRESH-INTERVAL:P3D
CALSCALE:GREGORIAN
BEGIN:VEVENT
DTSTART:20190219T000000Z
DTEND:20190219T030000Z
X-MICROSOFT-CDO-ALLDAYEVENT:FALSE
SUMMARY:HAYP 'Pigtails\, Pints & Performers'
DESCRIPTION:Are you talented? Do you have what it takes to beat the best? Hays Area Young Professionals presents 'Pigtails\, Pints\, & Performers.' This is a fundraising event to benefit the Hays Community Theater where talent takes center stage at Thirsty's Brew Pub. We're looking for magicians\, actors\, musicians\, comedians\, dancers\, or that one talent that makes you unique!\n\n\n\nThere are 2 ways to audition\, in person or via Facebook (#HAYPTalent or message HAYP directly). Audition in person at The Hays Community Theater on January 25th\, from 5pm to 8pm. or to audition via Facebook send in a 90 second video of your talent\, as well as the application forms.\n\n\n\nWhat can YOU do with 90 seconds?
X-ALT-DESC;FMTTYPE=text/html:<span>Are you talented? Do you have what it takes to beat the best? Hays Area Young Professionals presents &#39\;Pigtails\, Pints\, &amp\; Performers.&#39\; This is a fundraising event to benefit the Hays Community Theater where talent takes center stage at Thirsty&#39\;s Brew Pub. We&#39\;re looking for magicians\, actors\, musicians\, comedians\, dancers\, or that one talent that makes you unique!<br />\n<br />\nThere are 2 ways to audition\, in person or via Facebook (<a href="https://www.facebook.com/hashtag/hayptalent" target="_blank">#HAYPTalent</a> or message HAYP directly). Audition in person at The Hays Community Theater on January 25th\, from 5pm to 8pm. or to audition via Facebook send in a 90 second video of your talent\, as well as the application forms.<br />\n<br />\nWhat can YOU do with 90 seconds?</span><br />\n&nbsp\;
LOCATION:Thirsty's Brew Pub & Grill 2704 Vine St. Suite B Hays\, KS 67601
UID:e.1271.9922
SEQUENCE:3
DTSTAMP:20260422T204951Z
URL:https://members.hayschamber.com/events/details/hayp-pigtails-pints-performers-9922
END:VEVENT

END:VCALENDAR
