BEGIN:VCALENDAR
VERSION:2.0
PRODID:-//ChamberMaster//Event Calendar 2.0//EN
METHOD:PUBLISH
X-PUBLISHED-TTL:P3D
REFRESH-INTERVAL:P3D
CALSCALE:GREGORIAN
BEGIN:VEVENT
DTSTART:20190125T230000Z
DTEND:20190126T020000Z
X-MICROSOFT-CDO-ALLDAYEVENT:FALSE
SUMMARY:HAYP 'Pigtails\, Pints & Performers' Live Audtitions
DESCRIPTION:Come and audition for the 'Pigtails\, Pints and Performers' talent show on February 18th! For more information visit our Hays Area Young Professionals Facebook page\, email Dhani Caldwell dcaldwell@dailynews.net or call 785.628.8201 and speak with Nicole.
X-ALT-DESC;FMTTYPE=text/html:Come and audition for the &#39\;Pigtails\, Pints and Performers&#39\; talent show on February 18th! For more information visit our Hays Area Young Professionals Facebook page\, email Dhani Caldwell dcaldwell@dailynews.net or call 785.628.8201 and speak with Nicole.
LOCATION:Hays Community Theatre 121 E. 8th Hays\, KS 67601
UID:e.1271.9923
SEQUENCE:3
DTSTAMP:20260423T075545Z
URL:https://members.hayschamber.com/events/details/hayp-pigtails-pints-performers-live-audtitions-9923
END:VEVENT

END:VCALENDAR
