BEGIN:VCALENDAR
VERSION:2.0
PRODID:-//ChamberMaster//Event Calendar 2.0//EN
METHOD:PUBLISH
X-PUBLISHED-TTL:P3D
REFRESH-INTERVAL:P3D
CALSCALE:GREGORIAN
BEGIN:VEVENT
DTSTART:20190808T223000Z
DTEND:20190809T003000Z
X-MICROSOFT-CDO-ALLDAYEVENT:FALSE
SUMMARY:HAYP Popsicles in the Park
DESCRIPTION:Family HAYP event enjoying the weather and Popsicles in the Park with friends and family. Kids are welcome! No RSVP needed. Meet under the Pavillion.
X-ALT-DESC;FMTTYPE=text/html:Family HAYP event enjoying the weather and Popsicles in the Park with friends and family. Kids are welcome! No RSVP needed. Meet under the Pavillion.
LOCATION:East Frontier Park
UID:e.1271.10288
SEQUENCE:3
DTSTAMP:20260422T032343Z
URL:https://members.hayschamber.com/events/details/hayp-popsicles-in-the-park-10288
END:VEVENT

END:VCALENDAR
