BEGIN:VCALENDAR
VERSION:2.0
PRODID:-//ChamberMaster//Event Calendar 2.0//EN
METHOD:PUBLISH
X-PUBLISHED-TTL:P3D
REFRESH-INTERVAL:P3D
CALSCALE:GREGORIAN
BEGIN:VEVENT
DTSTART:20190501T000000Z
DTEND:20190501T010000Z
X-MICROSOFT-CDO-ALLDAYEVENT:FALSE
SUMMARY:HAYP Real World 101
DESCRIPTION:
X-ALT-DESC;FMTTYPE=text/html:
LOCATION:FHSU Memorial Union Trails Room
UID:e.1271.10220
SEQUENCE:3
DTSTAMP:20260422T170733Z
URL:https://members.hayschamber.com/events/details/hayp-real-world-101-10220
END:VEVENT

END:VCALENDAR
